BEGIN:VCALENDAR
PRODID:-//Solspace/Calendar//EN
VERSION:2.0
CALSCALE:GREGORIAN
BEGIN:VEVENT
UID:3cbaf24665bb0744cbc926a11f38c3e1@solspace.com
DTSTAMP:20260424T101218
LOCATION:Fellowship Park
DTSTART:20260601T080000
DTEND:20260601T130000
SUMMARY:Identity / Survivor Recreation
END:VEVENT
BEGIN:VEVENT
UID:4328b8daaa3b42e1f98182ff6040d039@solspace.com
DTSTAMP:20260424T101218
LOCATION:Gym
DTSTART:20260601T080000
DTEND:20260601T101500
SUMMARY:Identity / Survivor Recreation
END:VEVENT
BEGIN:VEVENT
UID:52c8e04c00927a4c5b079a315f7fce3c@solspace.com
DTSTAMP:20260424T101218
DESCRIPTION:In the Gym and Main Hallway / North
LOCATION:Gym
DTSTART:20260601T080000
DTEND:20260601T120000
SUMMARY:Identity & Survivor Regitration
END:VEVENT
BEGIN:VEVENT
UID:4d2bfda016dae5c0d32ec406e488d150@solspace.com
DTSTAMP:20260424T101218
LOCATION:Loft
DTSTART:20260601T084500
DTEND:20260601T120000
SUMMARY:Survivor / VBS
END:VEVENT
BEGIN:VEVENT
UID:f3507a8d3160101a11b8c9e0b221f89c@solspace.com
DTSTAMP:20260424T101218
LOCATION:Room 145
DTSTART:20260601T084500
DTEND:20260601T120000
SUMMARY:VBS Identity
END:VEVENT
BEGIN:VEVENT
UID:a1ee634d4491c9f2ec9a21a85ad026c5@solspace.com
DTSTAMP:20260424T101218
LOCATION:Fellowship Park
DTSTART:20260602T080000
DTEND:20260602T130000
SUMMARY:Identity / Survivor Recreation
END:VEVENT
BEGIN:VEVENT
UID:b6d0996b2e5e8c1cd6988be60a562473@solspace.com
DTSTAMP:20260424T101218
LOCATION:Gym
DTSTART:20260602T080000
DTEND:20260602T101500
SUMMARY:Identity / Survivor Recreation
END:VEVENT
BEGIN:VEVENT
UID:7eae921e61701c570f50b6aa0fc1431e@solspace.com
DTSTAMP:20260424T101218
DESCRIPTION:In the Gym and Main Hallway / North
LOCATION:Gym
DTSTART:20260602T080000
DTEND:20260602T120000
SUMMARY:Identity & Survivor Regitration
END:VEVENT
BEGIN:VEVENT
UID:2f4e1dd3b153696af9e653cffbdf0e00@solspace.com
DTSTAMP:20260424T101218
LOCATION:Loft
DTSTART:20260602T084500
DTEND:20260602T120000
SUMMARY:Survivor / VBS
END:VEVENT
BEGIN:VEVENT
UID:b15cc92ceaa310bbd24d94fd55aa90c1@solspace.com
DTSTAMP:20260424T101218
LOCATION:Room 145
DTSTART:20260602T084500
DTEND:20260602T120000
SUMMARY:VBS Identity
END:VEVENT
BEGIN:VEVENT
UID:f9ee66627a5b924fb4b9d0247a5a27fd@solspace.com
DTSTAMP:20260424T101218
LOCATION:Fellowship Park
DTSTART:20260603T080000
DTEND:20260603T130000
SUMMARY:Identity / Survivor Recreation
END:VEVENT
BEGIN:VEVENT
UID:4057536a7f14d58ffd563fce99488bd7@solspace.com
DTSTAMP:20260424T101218
LOCATION:Gym
DTSTART:20260603T080000
DTEND:20260603T101500
SUMMARY:Identity / Survivor Recreation
END:VEVENT
BEGIN:VEVENT
UID:1605ebdf92354a77eb80be04599286d7@solspace.com
DTSTAMP:20260424T101218
DESCRIPTION:In the Gym and Main Hallway / North
LOCATION:Gym
DTSTART:20260603T080000
DTEND:20260603T120000
SUMMARY:Identity & Survivor Regitration
END:VEVENT
BEGIN:VEVENT
UID:93ecf9a286ec6f386bea9948bcd5c1fc@solspace.com
DTSTAMP:20260424T101218
LOCATION:Loft
DTSTART:20260603T084500
DTEND:20260603T120000
SUMMARY:Survivor / VBS
END:VEVENT
BEGIN:VEVENT
UID:e92c05db31f201a080f890e50ee14376@solspace.com
DTSTAMP:20260424T101218
LOCATION:Room 145
DTSTART:20260603T084500
DTEND:20260603T120000
SUMMARY:VBS Identity
END:VEVENT
BEGIN:VEVENT
UID:b28ce718e3be4160b05c731f3304c825@solspace.com
DTSTAMP:20260424T101218
LOCATION:Fellowship Park
DTSTART:20260604T080000
DTEND:20260604T130000
SUMMARY:Identity / Survivor Recreation
END:VEVENT
BEGIN:VEVENT
UID:f9a90966a66e6e90efbd75c726681cf6@solspace.com
DTSTAMP:20260424T101218
LOCATION:Gym
DTSTART:20260604T080000
DTEND:20260604T101500
SUMMARY:Identity / Survivor Recreation
END:VEVENT
BEGIN:VEVENT
UID:60b7e1e4558592996b7e6253d3d59c54@solspace.com
DTSTAMP:20260424T101218
DESCRIPTION:In the Gym and Main Hallway / North
LOCATION:Gym
DTSTART:20260604T080000
DTEND:20260604T120000
SUMMARY:Identity & Survivor Regitration
END:VEVENT
BEGIN:VEVENT
UID:653dedaf099332e91d49073537520565@solspace.com
DTSTAMP:20260424T101218
LOCATION:Loft
DTSTART:20260604T084500
DTEND:20260604T120000
SUMMARY:Survivor / VBS
END:VEVENT
BEGIN:VEVENT
UID:d2c80bd9fc3fe2ca10ef42ec5e0fe7d9@solspace.com
DTSTAMP:20260424T101218
LOCATION:Room 145
DTSTART:20260604T084500
DTEND:20260604T120000
SUMMARY:VBS Identity
END:VEVENT
END:VCALENDAR